BEGIN:VCALENDAR
VERSION:2.0
PRODID:-//Indigo Productions - ECPv6.15.20//NONSGML v1.0//EN
CALSCALE:GREGORIAN
METHOD:PUBLISH
X-ORIGINAL-URL:https://indigo-productions.fr
X-WR-CALDESC:Évènements pour Indigo Productions
REFRESH-INTERVAL;VALUE=DURATION:PT1H
X-Robots-Tag:noindex
X-PUBLISHED-TTL:PT1H
BEGIN:VTIMEZONE
TZID:Europe/Paris
BEGIN:DAYLIGHT
TZOFFSETFROM:+0100
TZOFFSETTO:+0200
TZNAME:CEST
DTSTART:20240331T010000
END:DAYLIGHT
BEGIN:STANDARD
TZOFFSETFROM:+0200
TZOFFSETTO:+0100
TZNAME:CET
DTSTART:20241027T010000
END:STANDARD
BEGIN:DAYLIGHT
TZOFFSETFROM:+0100
TZOFFSETTO:+0200
TZNAME:CEST
DTSTART:20250330T010000
END:DAYLIGHT
BEGIN:STANDARD
TZOFFSETFROM:+0200
TZOFFSETTO:+0100
TZNAME:CET
DTSTART:20251026T010000
END:STANDARD
BEGIN:DAYLIGHT
TZOFFSETFROM:+0100
TZOFFSETTO:+0200
TZNAME:CEST
DTSTART:20260329T010000
END:DAYLIGHT
BEGIN:STANDARD
TZOFFSETFROM:+0200
TZOFFSETTO:+0100
TZNAME:CET
DTSTART:20261025T010000
END:STANDARD
BEGIN:DAYLIGHT
TZOFFSETFROM:+0100
TZOFFSETTO:+0200
TZNAME:CEST
DTSTART:20270328T010000
END:DAYLIGHT
BEGIN:STANDARD
TZOFFSETFROM:+0200
TZOFFSETTO:+0100
TZNAME:CET
DTSTART:20271031T010000
END:STANDARD
END:VTIMEZONE
BEGIN:VEVENT
DTSTART;TZID=Europe/Paris:20260404T200000
DTEND;TZID=Europe/Paris:20260404T200000
DTSTAMP:20260423T104556
CREATED:20250516T135620Z
LAST-MODIFIED:20251010T105803Z
UID:10003490-1775332800-1775332800@indigo-productions.fr
SUMMARY:LE LAC DES CYGNES - International Festival Ballet
DESCRIPTION: 
URL:https://indigo-productions.fr/agenda/le-lac-des-cygnes-international-festival-ballet-3/
LOCATION:ANNECY (74)
CATEGORIES:Le Lac des Cygnes - International Ballet
ATTACH;FMTTYPE=image/jpeg:https://indigo-productions.fr/wp-content/uploads/2024/11/spectacle-lac-des-cygnes-neutre-carre.jpeg
END:VEVENT
BEGIN:VEVENT
DTSTART;TZID=Europe/Paris:20260107T200000
DTEND;TZID=Europe/Paris:20260107T200000
DTSTAMP:20260423T104556
CREATED:20250205T161931Z
LAST-MODIFIED:20251010T071718Z
UID:10000216-1767816000-1767816000@indigo-productions.fr
SUMMARY:IL ETAIT UNE FOIS... ENNIO MORRICONE & NINO ROTA
DESCRIPTION: 
URL:https://indigo-productions.fr/agenda/ennio-morricone-nino-rota-4/
LOCATION:ANNECY (74)
CATEGORIES:Ennio Morricone & Nino Rota
ATTACH;FMTTYPE=image/jpeg:https://indigo-productions.fr/wp-content/uploads/2025/02/ennio-morricone-nino-rota-1080x1080-1.jpg
END:VEVENT
BEGIN:VEVENT
DTSTART;TZID=Europe/Paris:20251202T200000
DTEND;TZID=Europe/Paris:20251202T200000
DTSTAMP:20260423T104556
CREATED:20250409T082804Z
LAST-MODIFIED:20251001T100735Z
UID:10003414-1764705600-1764705600@indigo-productions.fr
SUMMARY:BOLLYWOOD MASALA
DESCRIPTION: 
URL:https://indigo-productions.fr/agenda/bollywood-masala-36/
LOCATION:ANNECY (74)
CATEGORIES:Bollywood Masala
ATTACH;FMTTYPE=image/jpeg:https://indigo-productions.fr/wp-content/uploads/2025/03/bollywood-masala-neutre-1080x1080-1.jpg
END:VEVENT
BEGIN:VEVENT
DTSTART;TZID=Europe/Paris:20250413T160000
DTEND;TZID=Europe/Paris:20250413T160000
DTSTAMP:20260423T104556
CREATED:20241204T181730Z
LAST-MODIFIED:20241204T181730Z
UID:10000197-1744560000-1744560000@indigo-productions.fr
SUMMARY:IRISH CELTIC
DESCRIPTION: 
URL:https://indigo-productions.fr/agenda/irish-celtic-31/
LOCATION:ANNECY (74)
CATEGORIES:Irish Celtic
ATTACH;FMTTYPE=image/jpeg:https://indigo-productions.fr/wp-content/uploads/2024/11/spectacle-irish-celtic-neutre-carre.jpeg
END:VEVENT
END:VCALENDAR